BEGIN:VCALENDAR
VERSION:2.0
PRODID:-//NAISMA - ECPv6.15.17//NONSGML v1.0//EN
CALSCALE:GREGORIAN
METHOD:PUBLISH
X-WR-CALNAME:NAISMA
X-ORIGINAL-URL:https://naisma.org
X-WR-CALDESC:Events for NAISMA
REFRESH-INTERVAL;VALUE=DURATION:PT1H
X-Robots-Tag:noindex
X-PUBLISHED-TTL:PT1H
BEGIN:VTIMEZONE
TZID:America/Chicago
BEGIN:DAYLIGHT
TZOFFSETFROM:-0600
TZOFFSETTO:-0500
TZNAME:CDT
DTSTART:20230312T080000
END:DAYLIGHT
BEGIN:STANDARD
TZOFFSETFROM:-0500
TZOFFSETTO:-0600
TZNAME:CST
DTSTART:20231105T070000
END:STANDARD
BEGIN:DAYLIGHT
TZOFFSETFROM:-0600
TZOFFSETTO:-0500
TZNAME:CDT
DTSTART:20240310T080000
END:DAYLIGHT
BEGIN:STANDARD
TZOFFSETFROM:-0500
TZOFFSETTO:-0600
TZNAME:CST
DTSTART:20241103T070000
END:STANDARD
BEGIN:DAYLIGHT
TZOFFSETFROM:-0600
TZOFFSETTO:-0500
TZNAME:CDT
DTSTART:20250309T080000
END:DAYLIGHT
BEGIN:STANDARD
TZOFFSETFROM:-0500
TZOFFSETTO:-0600
TZNAME:CST
DTSTART:20251102T070000
END:STANDARD
END:VTIMEZONE
BEGIN:VEVENT
DTSTART;TZID=America/Chicago:20240228T130000
DTEND;TZID=America/Chicago:20240228T140000
DTSTAMP:20260423T002521
CREATED:20231222T141300Z
LAST-MODIFIED:20240131T200300Z
UID:121699-1709125200-1709128800@naisma.org
SUMMARY:NISAW Webinar: The Federal Interagency Committee on the Management of Noxious and Exotic Weeds
DESCRIPTION:Please join members of the Federal Interagency Committee for the Management of Noxious and Exotic Weeds (FICMNEW) to learn more about the organization\, hear highlights from 2023\, get a preview of upcoming plans\, and provide input on future federal coordination needs regarding invasive plant research and management. \n\n\n\n\nREGISTER HERE\n\n\n\n\nAgenda: \n\n\n\n\nWelcome and introduction to FICMNEW presented by Seth Flanigan\, Bureau of Land Management and Co-Chair of FICMNEW\n\n\n\nBrief history of FICMNEW efforts presented by Vijay Nandula\, National Institute of Food and Agriculture\n\n\n\n2023 highlights presented by Paul Heimowitz\, U.S. Geological Survey\n\n\n\nUpcoming plans presented by Vijay Nandula – NIFA\n\n\n\nFuture needs discussion presented by Terri Hogan\, National Park Service\n\n\n\nWrap-up/Involvement opportunities presented by Chris Taliga\, Natural Resources Conservation Service and co-chair of FICMNEW
URL:https://naisma.org/event/nisaw-webinar-the-federal-interagency-committee-on-the-management-of-noxious-and-exotic-weeds/
CATEGORIES:NAISMA Webinar,Webinars
ATTACH;FMTTYPE=image/jpeg:https://naisma.org/wp-content/uploads/2023/12/yellow_toadflax_in_mtn_field-1.jpg
END:VEVENT
END:VCALENDAR